BEGIN:VCALENDAR
VERSION:2.0
PRODID:SchoolNow
CALSCALE:GREGORIAN
BEGIN:VEVENT
UID:9ad78e60-97ce-11f0-8a62-0a58a9feac02
DTSTAMP:20250922T161006Z
SUMMARY:CDD Meeting - Jun. 2026
LOCATION:Palma Sola Trace Clubhouse located at 7408 Hamilton Road\, Bradent
 on\, Florida 34209
URL;VALUE=URI:https://www.palmasolatracecdd.org/calendar/8653034/cdd-meetin
 g-jun-2026
DTSTART:20260625T173000Z
DTEND:20260625T183000Z
END:VEVENT
END:VCALENDAR
