BEGIN:VCALENDAR
VERSION:2.0
PRODID:SchoolNow
CALSCALE:GREGORIAN
BEGIN:VEVENT
UID:9057b49c-97ce-11f0-8baa-02d4aeb81cfd
DTSTAMP:20260423T133125Z
SUMMARY:CDD Meeting - Apr. 2026
LOCATION:Palma Sola Trace Clubhouse located at 7408 Hamilton Road\, Bradent
 on\, Florida 34209
URL;VALUE=URI:https://www.palmasolatracecdd.org/calendar/8653033/cdd-meetin
 g-apr-2026
DTSTART:20260423T173000Z
DTEND:20260423T183000Z
ATTACH;FILENAME=2026-04-23 - Palma Sola Trace CDD - Revised Final Agenda.pd
 f;FMTTYPE=application/pdf:https://campussuite-storage.s3.amazonaws.com/pro
 d/1558909/e6ea0ebe-ea9f-11e9-8a22-0a20d2c7fac4/3091947/b70bbad8-3f18-11f1-
 8452-0a58a9feac02/file/2026-04-23 - Palma Sola Trace CDD - Revised Final A
 genda.pdf
END:VEVENT
END:VCALENDAR
