BEGIN:VCALENDAR
VERSION:2.0
PRODID:SchoolNow
CALSCALE:GREGORIAN
BEGIN:VEVENT
UID:878a6080-97ce-11f0-8d2f-02f131e5a2c7
DTSTAMP:20260223T215507Z
SUMMARY:CDD Meeting - Feb. 2026
LOCATION:Palma Sola Trace Clubhouse located at 7408 Hamilton Road\, Bradent
 on\, Florida 34209
URL;VALUE=URI:https://www.palmasolatracecdd.org/calendar/8653032/cdd-meetin
 g-feb-2026
DTSTART:20260226T183000Z
DTEND:20260226T193000Z
ATTACH;FILENAME=2026-02-26- Palma Sola Trace CDD - Revised Final Agenda.pdf
 ;FMTTYPE=application/pdf:https://campussuite-storage.s3.amazonaws.com/prod
 /1558909/e6ea0ebe-ea9f-11e9-8a22-0a20d2c7fac4/3073505/4d318352-1102-11f1-9
 183-029de128f86f/file/2026-02-26- Palma Sola Trace CDD - Revised Final Age
 nda.pdf
END:VEVENT
END:VCALENDAR
